BEGIN:VCALENDAR
VERSION:2.0
PRODID:-//Festival jak víno - ECPv5.0.0.1//NONSGML v1.0//EN
CALSCALE:GREGORIAN
METHOD:PUBLISH
X-WR-CALNAME:Festival jak víno
X-ORIGINAL-URL:https://www.festivaljakvino.cz
X-WR-CALDESC:Events for Festival jak víno
BEGIN:VTIMEZONE
TZID:Europe/Prague
BEGIN:DAYLIGHT
TZOFFSETFROM:+0100
TZOFFSETTO:+0200
TZNAME:CEST
DTSTART:20250330T010000
END:DAYLIGHT
BEGIN:STANDARD
TZOFFSETFROM:+0200
TZOFFSETTO:+0100
TZNAME:CET
DTSTART:20251026T010000
END:STANDARD
END:VTIMEZONE
BEGIN:VEVENT
DTSTART;TZID=Europe/Prague:20250920T150000
DTEND;TZID=Europe/Prague:20250920T160000
DTSTAMP:20260426T000037
CREATED:20250825T065540Z
LAST-MODIFIED:20250904T064254Z
UID:6691-1758380400-1758384000@www.festivaljakvino.cz
SUMMARY:školení - Práce a činnosti ve Vinici
DESCRIPTION:[vc_row][vc_column][vc_column_text] \n🍇 POZVÁNKA NA ŠKOLENÍ – PRÁCE A ČINNOSTI VE VINICI 🌿v rámci festivalu vína na pražské náplavce \nZveme vás na jedinečné školení\, které vás provede fascinujícím světem vinohradnictví – přímo v srdci Prahy\, na náplavce u Vltavy\, v rámci festivalu vína plného chutí\, vůní a inspirace. \n🗓️ KDY: 20. 9. 2025📍 KDE: Náplavka\, Praha🎓 TÉMA: Práce a činnosti ve vinici – poznání od kořenů👥 Pro koho: Pro všechny\, kteří chtějí lépe porozumět tomu\, co stojí za sklenkou kvalitního vína – od vinařských nadšenců po pracovníky v gastronomii \n\nCo vás čeká?\nToto školení vás provede celým rokem ve vinici a představí\, co všechno obnáší pěstování révy vinné. Naučíte se: \n🌱 Jak vypadá cyklus révy během roku – od řezu po sklizeň✂️ Jaké jsou klíčové práce ve vinici: řez\, podvazování\, zelené práce\, ochrana vinice\, regulace výnosu🍂 Jak terroir\, klima a péče o vinici ovlivňují výslednou kvalitu vína🚜 Jak probíhá ruční vs. mechanická práce ve vinici a kdy má která smysl🍇 Jak vinař rozhoduje o správném termínu sklizně a proč na tom tolik záleží \nTo vše srozumitelně\, prakticky a s důrazem na to\, jak jednotlivé činnosti ovlivňují charakter a kvalitu vína\, které se vám později dostane do sklenky. \n\nProč přijít?\n✨ Protože dobré víno začíná na vinici✨ Protože porozumět vínu znamená znát jeho původ✨ Protože vinařství není jen romantika\, ale také tvrdá a přesná práce – a právě v tom je jeho kouzlo \nV krásném prostředí u Vltavy\, během oslav vína\, se společně ponoříme do příběhu vína od samotného počátku – v hlíně\, slunci a péči lidských rukou. \n\nPřihlášky & další informace\nOpravdu stačí jen přijít na festival a školení proběhne přímo z podia v 15. hod. \nVe školení je zahrnuto malé občerstvení a přehledný materiál s ročním kalendářem prací ve vinici. \n\nPřijďte si rozšířit obzory\, nasát atmosféru a pochopit\, proč víno začíná u kořenů – doslova.Těšíme se na vás v inspirativním prostředí festivalu vína s výhledem na Vltavu! \n🍇 S úctou a radostí\,Tým školení „Práce a činnosti ve vinici“ \n[/vc_column_text][/vc_column][/vc_row] \n
URL:https://www.festivaljakvino.cz/akce/skoleni-prace-ve-vinici/
LOCATION:Náplavka\, Rašínovo nábřeží\, Praha\, 110 00
ATTACH;FMTTYPE=image/png:https://www.festivaljakvino.cz/wp-content/uploads/2025/08/jarni-kost-23.png
END:VEVENT
END:VCALENDAR