BEGIN:VCALENDAR
VERSION:2.0
PRODID:-//Festival jak víno - ECPv5.0.0.1//NONSGML v1.0//EN
CALSCALE:GREGORIAN
METHOD:PUBLISH
X-WR-CALNAME:Festival jak víno
X-ORIGINAL-URL:https://www.festivaljakvino.cz
X-WR-CALDESC:Events for Festival jak víno
BEGIN:VTIMEZONE
TZID:Europe/Prague
BEGIN:DAYLIGHT
TZOFFSETFROM:+0100
TZOFFSETTO:+0200
TZNAME:CEST
DTSTART:20230326T010000
END:DAYLIGHT
BEGIN:STANDARD
TZOFFSETFROM:+0200
TZOFFSETTO:+0100
TZNAME:CET
DTSTART:20231029T010000
END:STANDARD
END:VTIMEZONE
BEGIN:VEVENT
DTSTART;TZID=Europe/Prague:20230812T120000
DTEND;TZID=Europe/Prague:20230812T210000
DTSTAMP:20260426T013742
CREATED:20230407T131311Z
LAST-MODIFIED:20230725T074148Z
UID:6491-1691841600-1691874000@www.festivaljakvino.cz
SUMMARY:Víno a sýr na náplavce
DESCRIPTION:[vc_row][vc_column][vc_column_text]Na náplavku se přikutálí sýry z celého světa. Vyzkoušejte si originální vinné párování českých vín se sýry z různých zemí. Nenechte si ujít mimořádnou příležitost seznámit se světem sýrů a chutí nevšedních vín. \nPrezentujeme malé rodinné vinaře nejen z jižní Moravy\, ale i z oblasti starého a nového světa\, jejichž produkci běžně neochutnáte. Co vinař a co láhev to originál\, klademe důraz na minimální produkci výroby\, kde vinař uzavírá do lahve nejen víno\, ale i své srdce. \nK degustaci hraje příjemná živá hudba a zážitek dotváří moderní gastronomie a tematické soutěže na podiu.[/vc_column_text][/vc_column][/vc_row][vc_row][vc_column][vc_single_image image=“6492″][/vc_column][/vc_row] \n
URL:https://www.festivaljakvino.cz/akce/vino-a-syr-na-naplavce/
LOCATION:Náplavka\, Rašínovo nábřeží\, Praha\, 110 00
ATTACH;FMTTYPE=image/png:https://www.festivaljakvino.cz/wp-content/uploads/2023/04/update_FINAL.png
END:VEVENT
END:VCALENDAR