BEGIN:VCALENDAR
VERSION:2.0
PRODID:-//Festival jak víno - ECPv5.0.0.1//NONSGML v1.0//EN
CALSCALE:GREGORIAN
METHOD:PUBLISH
X-WR-CALNAME:Festival jak víno
X-ORIGINAL-URL:https://www.festivaljakvino.cz
X-WR-CALDESC:Events for Festival jak víno
BEGIN:VTIMEZONE
TZID:Europe/Prague
BEGIN:DAYLIGHT
TZOFFSETFROM:+0100
TZOFFSETTO:+0200
TZNAME:CEST
DTSTART:20250330T010000
END:DAYLIGHT
BEGIN:STANDARD
TZOFFSETFROM:+0200
TZOFFSETTO:+0100
TZNAME:CET
DTSTART:20251026T010000
END:STANDARD
END:VTIMEZONE
BEGIN:VEVENT
DTSTART;TZID=Europe/Prague:20250919T110000
DTEND;TZID=Europe/Prague:20250920T210000
DTSTAMP:20260426T000036
CREATED:20250825T073619Z
LAST-MODIFIED:20250825T075708Z
UID:6695-1758279600-1758402000@www.festivaljakvino.cz
SUMMARY:VINOBRANÍ na Náplavce - Burčák FEST
DESCRIPTION:[vc_row][vc_column][vc_column_text] \nTradiční Burčákový pochod je zpět! Zveme Vás na oslavu babího léta\, vína a hlavně zdraví a pohody. Přijďte na procházku vinnou stezkou přímo na náplavce.\n\nZavínění garantováno! Ať už lahodným burčákem lisovaným na našich vinohradech nebo nejlahodnějšími víny z jižní moravy\, či ze zahraničí. Můžete tak porovnat kvalitu našich vín se světem.\n\nPrezentujeme malé rodinné vinaře nejen z jižní Moravy\, ale i z oblasti starého a nového světa\, jejichž produkci běžně neochutnáte. Co vinař a co láhev to originál\, klademe důraz na minimální produkci výroby\, kde vinař uzavírá do lahve nejen víno\, ale i své srdce.\n\nK degustaci hraje příjemná živá hudba a zážitek dotváří moderní gastronomie a tematické soutěže na podiu.\n[/vc_column_text][/vc_column][/vc_row] \n
URL:https://www.festivaljakvino.cz/akce/vinobrani-na-naplavce-burcak-fest/
LOCATION:Náplavka\, Rašínovo nábřeží\, Praha\, 110 00
ATTACH;FMTTYPE=image/png:https://www.festivaljakvino.cz/wp-content/uploads/2025/08/jarni-kost-19.png
END:VEVENT
END:VCALENDAR